BEGIN:VCALENDAR
VERSION:2.0
PRODID:-//FOS - ECPv6.15.20//NONSGML v1.0//EN
CALSCALE:GREGORIAN
METHOD:PUBLISH
X-ORIGINAL-URL:https://fos-sunnh.no
X-WR-CALDESC:Hendingar for FOS
REFRESH-INTERVAL;VALUE=DURATION:PT1H
X-Robots-Tag:noindex
X-PUBLISHED-TTL:PT1H
BEGIN:VTIMEZONE
TZID:Europe/Oslo
BEGIN:DAYLIGHT
TZOFFSETFROM:+0100
TZOFFSETTO:+0200
TZNAME:CEST
DTSTART:20250330T010000
END:DAYLIGHT
BEGIN:STANDARD
TZOFFSETFROM:+0200
TZOFFSETTO:+0100
TZNAME:CET
DTSTART:20251026T010000
END:STANDARD
BEGIN:DAYLIGHT
TZOFFSETFROM:+0100
TZOFFSETTO:+0200
TZNAME:CEST
DTSTART:20260329T010000
END:DAYLIGHT
BEGIN:STANDARD
TZOFFSETFROM:+0200
TZOFFSETTO:+0100
TZNAME:CET
DTSTART:20261025T010000
END:STANDARD
BEGIN:DAYLIGHT
TZOFFSETFROM:+0100
TZOFFSETTO:+0200
TZNAME:CEST
DTSTART:20270328T010000
END:DAYLIGHT
BEGIN:STANDARD
TZOFFSETFROM:+0200
TZOFFSETTO:+0100
TZNAME:CET
DTSTART:20271031T010000
END:STANDARD
END:VTIMEZONE
BEGIN:VEVENT
DTSTART;TZID=Europe/Oslo:20260604T080000
DTEND;TZID=Europe/Oslo:20260604T170000
DTSTAMP:20260424T212929
CREATED:20251021T075409Z
LAST-MODIFIED:20251021T075511Z
UID:2529-1780560000-1780592400@fos-sunnh.no
SUMMARY:Munnleg eksamen i kommunane Bømlo og Etne
DESCRIPTION:
URL:https://fos-sunnh.no/hending/munnleg-eksamen-i-kommunane-bomlo-og-etne/
END:VEVENT
BEGIN:VEVENT
DTSTART;TZID=Europe/Oslo:20260609T080000
DTEND;TZID=Europe/Oslo:20260609T170000
DTSTAMP:20260424T212929
CREATED:20251021T075631Z
LAST-MODIFIED:20251021T075633Z
UID:2532-1780992000-1781024400@fos-sunnh.no
SUMMARY:Munnleg eksamen i kommunane Stord og Sveio
DESCRIPTION:
URL:https://fos-sunnh.no/hending/munnleg-eksamen-i-kommunane-stord-og-sveio/
END:VEVENT
BEGIN:VEVENT
DTSTART;TZID=Europe/Oslo:20260611T080000
DTEND;TZID=Europe/Oslo:20260611T170000
DTSTAMP:20260424T212929
CREATED:20251021T075907Z
LAST-MODIFIED:20251021T075909Z
UID:2534-1781164800-1781197200@fos-sunnh.no
SUMMARY:Munnleg eksamen i kommunane Fitjar og Kvinnherad
DESCRIPTION:
URL:https://fos-sunnh.no/hending/munnleg-eksamen-i-kommunane-fitjar-og-kvinnherad/
END:VEVENT
END:VCALENDAR