BEGIN:VCALENDAR
VERSION:2.0
PRODID:-//FOS - ECPv6.15.20//NONSGML v1.0//EN
CALSCALE:GREGORIAN
METHOD:PUBLISH
X-ORIGINAL-URL:https://fos-sunnh.no
X-WR-CALDESC:Hendingar for FOS
REFRESH-INTERVAL;VALUE=DURATION:PT1H
X-Robots-Tag:noindex
X-PUBLISHED-TTL:PT1H
BEGIN:VTIMEZONE
TZID:Europe/Oslo
BEGIN:DAYLIGHT
TZOFFSETFROM:+0100
TZOFFSETTO:+0200
TZNAME:CEST
DTSTART:20240331T010000
END:DAYLIGHT
BEGIN:STANDARD
TZOFFSETFROM:+0200
TZOFFSETTO:+0100
TZNAME:CET
DTSTART:20241027T010000
END:STANDARD
BEGIN:DAYLIGHT
TZOFFSETFROM:+0100
TZOFFSETTO:+0200
TZNAME:CEST
DTSTART:20250330T010000
END:DAYLIGHT
BEGIN:STANDARD
TZOFFSETFROM:+0200
TZOFFSETTO:+0100
TZNAME:CET
DTSTART:20251026T010000
END:STANDARD
BEGIN:DAYLIGHT
TZOFFSETFROM:+0100
TZOFFSETTO:+0200
TZNAME:CEST
DTSTART:20260329T010000
END:DAYLIGHT
BEGIN:STANDARD
TZOFFSETFROM:+0200
TZOFFSETTO:+0100
TZNAME:CET
DTSTART:20261025T010000
END:STANDARD
END:VTIMEZONE
BEGIN:VEVENT
DTSTART;TZID=Europe/Oslo:20250813T093000
DTEND;TZID=Europe/Oslo:20250813T150000
DTSTAMP:20260419T005820
CREATED:20250410T092703Z
LAST-MODIFIED:20250618T055816Z
UID:2428-1755077400-1755097200@fos-sunnh.no
SUMMARY:Fagdag SFO tilsette
DESCRIPTION:I samarbeid med HVL arrangerer FOS ein ny fagdag for tilsette i SFO. Utviklingsdagen for SFO tilsette er i tråd med satsinga til FOS på kompetanseheving på rammeplanen for SFO.  \n\n\n\nProgram: \n\n\n\n09.30Velkommen og dagen i dagMone/FOS09.45Erfaringsdeling  Mone/FOS10.30Stasjonar: Naturleikeplass (ute i skulehagen) Dans/drama (aula/gymsal)Anne Beate\, Gunhild og Karen12.00Lunsj   12.45Stasjonar: Naturleikeplass (ute i skulehagen) Dans/drama (aula/gymsal)  Anne Beate\, Gunhild og Karen14.15Pause   14.30Veien videre og neste samling i januar \n\n\n\nFokus for dagen vil vere naturleikeplassen og drama. Påmeldte må ha på seg klær for å vere ute denne dagen\, uansett vér og ha på seg eigna klær til økta med drama.  \n\n\n\nFørre samling var det gitt noko mellomarbeid som me ynskjer at SFO tilsette tek med seg tilbake til samlinga:  \n\n\n\n\nFinne fram til et området som harpotensiale til å ble en naturlekeplass\n\n\n\nBygge et repertoar på deres SFO innenmusikk\n\n\n\nPrøv ut nye måter å få barn til å brukesansene og utforske maten og organisermåltidet på nye måter\n\n\n\n\nMe ynskjer 2-3 SFOar som deler erfaringar frå mellomarbeidet til denne samlinga. Meld gjerne fra om din SFO ynskjer å dele erfaringar\, både kva som har fungert og kva som ikkje har gått som det skulle.  \n\n\n\nSett av datoen og meld deg på. \n\n\n\nFor spørsmål om samlinga kan FOS koordinator Mone Nilsen kontaktast på e-post moni@fitjar.kommune.no eller telefon 97 08 95 98.
URL:https://fos-sunnh.no/hending/fagdag-sfo-tilsette/
END:VEVENT
END:VCALENDAR