BEGIN:VCALENDAR
VERSION:2.0
PRODID:-//FOS - ECPv6.15.20//NONSGML v1.0//EN
CALSCALE:GREGORIAN
METHOD:PUBLISH
X-ORIGINAL-URL:https://fos-sunnh.no
X-WR-CALDESC:Hendingar for FOS
REFRESH-INTERVAL;VALUE=DURATION:PT1H
X-Robots-Tag:noindex
X-PUBLISHED-TTL:PT1H
BEGIN:VTIMEZONE
TZID:Europe/Oslo
BEGIN:DAYLIGHT
TZOFFSETFROM:+0100
TZOFFSETTO:+0200
TZNAME:CEST
DTSTART:20240331T010000
END:DAYLIGHT
BEGIN:STANDARD
TZOFFSETFROM:+0200
TZOFFSETTO:+0100
TZNAME:CET
DTSTART:20241027T010000
END:STANDARD
BEGIN:DAYLIGHT
TZOFFSETFROM:+0100
TZOFFSETTO:+0200
TZNAME:CEST
DTSTART:20250330T010000
END:DAYLIGHT
BEGIN:STANDARD
TZOFFSETFROM:+0200
TZOFFSETTO:+0100
TZNAME:CET
DTSTART:20251026T010000
END:STANDARD
BEGIN:DAYLIGHT
TZOFFSETFROM:+0100
TZOFFSETTO:+0200
TZNAME:CEST
DTSTART:20260329T010000
END:DAYLIGHT
BEGIN:STANDARD
TZOFFSETFROM:+0200
TZOFFSETTO:+0100
TZNAME:CET
DTSTART:20261025T010000
END:STANDARD
END:VTIMEZONE
BEGIN:VEVENT
DTSTART;TZID=Europe/Oslo:20250604T090000
DTEND;TZID=Europe/Oslo:20250604T143000
DTSTAMP:20260420T080055
CREATED:20250204T104139Z
LAST-MODIFIED:20250410T093244Z
UID:2392-1749027600-1749047400@fos-sunnh.no
SUMMARY:Styrarnettverk med Kari Pape
DESCRIPTION:FOS har fått tildelt ekstra midlar i forbindelse med ReKomp\, og i den samanheng ynskjer me å invitere styrarar i barnehage og assisterande styrar til eit styrarnettverk med Kari Pape. Tema for dagen vil vere psykososialt barnehagemiljø. Kari Pape vil også formidle litt om hennar forsking på korleis tilsette sitt arbeidsmiljø påverkar barna sitt psykososiale barnehagemiljø. Tema er med bakgrunn i eigenvurdering og tilsyn FOS kommunane har hatt på kap. 8 i Lov om barnehager. \n\n\n\nMeld deg på og få meir informasjon når det nærmar seg. Det vert lunsj for alle påmeldte. Dagen startar kl. 09:00 og sluttar kl. 14:30. Det vert kaffi og te frå kl. 08:45.  \n\n\n\nHar de spørsmål kan ein kontakte FOS koordinator Mone Nilsen på e-post moni@fitjar.kommune.no eller mobil 97 08 95 98.
URL:https://fos-sunnh.no/hending/fagdag-med-kari-pape/
LOCATION:Stord kulturhus\, småsalen
CATEGORIES:Kurs
END:VEVENT
END:VCALENDAR