BEGIN:VCALENDAR
VERSION:2.0
PRODID:-//FOS - ECPv6.15.20//NONSGML v1.0//EN
CALSCALE:GREGORIAN
METHOD:PUBLISH
X-ORIGINAL-URL:https://fos-sunnh.no
X-WR-CALDESC:Hendingar for FOS
REFRESH-INTERVAL;VALUE=DURATION:PT1H
X-Robots-Tag:noindex
X-PUBLISHED-TTL:PT1H
BEGIN:VTIMEZONE
TZID:Europe/Oslo
BEGIN:DAYLIGHT
TZOFFSETFROM:+0100
TZOFFSETTO:+0200
TZNAME:CEST
DTSTART:20250330T010000
END:DAYLIGHT
BEGIN:STANDARD
TZOFFSETFROM:+0200
TZOFFSETTO:+0100
TZNAME:CET
DTSTART:20251026T010000
END:STANDARD
BEGIN:DAYLIGHT
TZOFFSETFROM:+0100
TZOFFSETTO:+0200
TZNAME:CEST
DTSTART:20260329T010000
END:DAYLIGHT
BEGIN:STANDARD
TZOFFSETFROM:+0200
TZOFFSETTO:+0100
TZNAME:CET
DTSTART:20261025T010000
END:STANDARD
BEGIN:DAYLIGHT
TZOFFSETFROM:+0100
TZOFFSETTO:+0200
TZNAME:CEST
DTSTART:20270328T010000
END:DAYLIGHT
BEGIN:STANDARD
TZOFFSETFROM:+0200
TZOFFSETTO:+0100
TZNAME:CET
DTSTART:20271031T010000
END:STANDARD
END:VTIMEZONE
BEGIN:VEVENT
DTSTART;TZID=Europe/Oslo:20260325T114500
DTEND;TZID=Europe/Oslo:20260325T154500
DTSTAMP:20260421T055428
CREATED:20260309T103444Z
LAST-MODIFIED:20260310T082806Z
UID:2671-1774439100-1774453500@fos-sunnh.no
SUMMARY:Seminar for nyutdanna lærarar i barnehage og skule
DESCRIPTION:Foreldresamarbeid og rettleiing
URL:https://fos-sunnh.no/hending/seminar-for-nyutdanna-laerarar-i-barnehage-og-skule/
LOCATION:HVL Campus Stord\, Klingenbergvegen 4\, Stord\, 5414\, Norway
CATEGORIES:Framheva på forsida,Kurs
END:VEVENT
END:VCALENDAR