BEGIN:VCALENDAR
VERSION:2.0
PRODID:-//FOS - ECPv6.15.20//NONSGML v1.0//EN
CALSCALE:GREGORIAN
METHOD:PUBLISH
X-WR-CALNAME:FOS
X-ORIGINAL-URL:https://fos-sunnh.no
X-WR-CALDESC:Hendingar for FOS
REFRESH-INTERVAL;VALUE=DURATION:PT1H
X-Robots-Tag:noindex
X-PUBLISHED-TTL:PT1H
BEGIN:VTIMEZONE
TZID:Europe/Oslo
BEGIN:DAYLIGHT
TZOFFSETFROM:+0100
TZOFFSETTO:+0200
TZNAME:CEST
DTSTART:20220327T010000
END:DAYLIGHT
BEGIN:STANDARD
TZOFFSETFROM:+0200
TZOFFSETTO:+0100
TZNAME:CET
DTSTART:20221030T010000
END:STANDARD
BEGIN:DAYLIGHT
TZOFFSETFROM:+0100
TZOFFSETTO:+0200
TZNAME:CEST
DTSTART:20230326T010000
END:DAYLIGHT
BEGIN:STANDARD
TZOFFSETFROM:+0200
TZOFFSETTO:+0100
TZNAME:CET
DTSTART:20231029T010000
END:STANDARD
BEGIN:DAYLIGHT
TZOFFSETFROM:+0100
TZOFFSETTO:+0200
TZNAME:CEST
DTSTART:20240331T010000
END:DAYLIGHT
BEGIN:STANDARD
TZOFFSETFROM:+0200
TZOFFSETTO:+0100
TZNAME:CET
DTSTART:20241027T010000
END:STANDARD
END:VTIMEZONE
BEGIN:VEVENT
DTSTART;TZID=Europe/Oslo:20230308T090000
DTEND;TZID=Europe/Oslo:20230308T150000
DTSTAMP:20260425T014206
CREATED:20230131T134814Z
LAST-MODIFIED:20230306T090809Z
UID:1721-1678266000-1678287600@fos-sunnh.no
SUMMARY:Eksamensworkshop- Norsk
DESCRIPTION:Forum for Oppvekst i Sunnhordaland arrangerer eksamensworkshop i Norsk onsdag 08.03. frå 09.00-15.00. Kurset vert halde på Stord folkehøskule på Leirvik. \nLunsj frå 12.-12.30: Heimelaga brød\, assortert pålegg\, suppe\, kaffi/te etc. \nFørste del av dagen vil gå til generell info om nasjonale og lokale retningslinjer. Vidare vert det gruppearbeid og plenumsdeling. Nærare info kjem. \nÅslaug Farestveit (Sveio) og Halvor Landmark (Bømlo) leiar workshopen. Dei er begge erfarne lærarar med mykje eksamensarbeid bak seg. \nOm du har spørsmål som du ønskjer at me skal svara på i denne workshopen\, er det mogleg å sende desse inn på førehand til hege.steindal@sveio.kommune.no.
URL:https://fos-sunnh.no/hending/eksamensworkshop-norsk/
LOCATION:Stord folkehøgskule\, Osen 5\, Leirvik\, Stord\, 5411\, Norway
CATEGORIES:Framheva på forsida
ATTACH;FMTTYPE=image/jpeg:https://fos-sunnh.no/wp-content/uploads/2019/02/workshop-1345512__340.jpg
END:VEVENT
BEGIN:VEVENT
DTSTART;TZID=Europe/Oslo:20230315T090000
DTEND;TZID=Europe/Oslo:20230315T150000
DTSTAMP:20260425T014206
CREATED:20230131T135501Z
LAST-MODIFIED:20230616T102410Z
UID:1724-1678870800-1678892400@fos-sunnh.no
SUMMARY:Workshop- Engelsk
DESCRIPTION:Forum for Oppvekst i Sunnhordaland arrangerer eksamensworkshop i Engelsk onsdag 15.03. frå 09.00-15.00. Kurset vert halde på Stord folkehøgskule på Leirvik.\n\nLunsj 12.-12.30: Heimelaga brød\, assortert pålegg\, suppe\, kaffi/te etc.\n\nFørste del av dagen vil gå til generell info om nasjonale og lokale retningslinjer. Vidare vert det gruppearbeid og plenumsdeling. Nærare info kjem.\n\nBirgitte Drønen Brenne (Fitjar) og Janne Ellingsen (Bømlo) leiar workshopen. Dei er begge erfarne lærarar med mykje eksamensarbeid bak seg.\n\nOm du har spørsmål som du ønskjer at me skal svara på i denne workshopen\, er det mogleg å sende desse inn på førehand til hege.steindal@sveio.kommune.no.
URL:https://fos-sunnh.no/hending/workshop-engelsk/
LOCATION:Stord folkehøgskule\, Osen 5\, Leirvik\, Stord\, 5411\, Norway
CATEGORIES:Framheva på forsida,Kurs
ATTACH;FMTTYPE=image/jpeg:https://fos-sunnh.no/wp-content/uploads/2019/02/workshop-1345512__340.jpg
END:VEVENT
END:VCALENDAR