BEGIN:VCALENDAR
VERSION:2.0
PRODID:-//FOS - ECPv6.15.20//NONSGML v1.0//EN
CALSCALE:GREGORIAN
METHOD:PUBLISH
X-WR-CALNAME:FOS
X-ORIGINAL-URL:https://fos-sunnh.no
X-WR-CALDESC:Hendingar for FOS
REFRESH-INTERVAL;VALUE=DURATION:PT1H
X-Robots-Tag:noindex
X-PUBLISHED-TTL:PT1H
BEGIN:VTIMEZONE
TZID:Europe/Oslo
BEGIN:DAYLIGHT
TZOFFSETFROM:+0100
TZOFFSETTO:+0200
TZNAME:CEST
DTSTART:20220327T010000
END:DAYLIGHT
BEGIN:STANDARD
TZOFFSETFROM:+0200
TZOFFSETTO:+0100
TZNAME:CET
DTSTART:20221030T010000
END:STANDARD
BEGIN:DAYLIGHT
TZOFFSETFROM:+0100
TZOFFSETTO:+0200
TZNAME:CEST
DTSTART:20230326T010000
END:DAYLIGHT
BEGIN:STANDARD
TZOFFSETFROM:+0200
TZOFFSETTO:+0100
TZNAME:CET
DTSTART:20231029T010000
END:STANDARD
BEGIN:DAYLIGHT
TZOFFSETFROM:+0100
TZOFFSETTO:+0200
TZNAME:CEST
DTSTART:20240331T010000
END:DAYLIGHT
BEGIN:STANDARD
TZOFFSETFROM:+0200
TZOFFSETTO:+0100
TZNAME:CET
DTSTART:20241027T010000
END:STANDARD
END:VTIMEZONE
BEGIN:VEVENT
DTSTART;VALUE=DATE:20230208
DTEND;VALUE=DATE:20230210
DTSTAMP:20260420T091907
CREATED:20221110T165611Z
LAST-MODIFIED:20230207T204318Z
UID:1433-1675814400-1675987199@fos-sunnh.no
SUMMARY:Leiarkonferanse 2023
DESCRIPTION:  \n08.-09.02. er det tid for FOS sin årlege leiarkonferanse på Rica Maritim hotell i Haugesund. Målgruppa er leiarar i barnehage\, skule\, PPT og kommunal leiing.\nProgram:\nOnsdag 08.02. \n\n\n\n08.30\nOpning og velkommen.\n\n\n09.00\nNår voksne krenker barn i barnehage og skole \nIngrid Lund\, Professor i spesialpedagogikk ved Universitetet i Agder \nLovverket er tydelig: Hvis en får mistanke om eller kjennskap til at en voksen krenker et barn i barnehagen eller i skolen skal vedkommende straks melde i fra til barnehagens eller skolens eier. En skjerpet aktivitetsplikt skal umiddelbart tre i kraft. \nBarnehagens og skolens tydelige ledelse\, kommunikasjons- og tilbakemeldingskultur er her helt  avgjørende både i det forebyggende arbeidet og i det løsningsfokuserte arbeidet når krenkelser av barn skjer. \nForedraget vil  fokusere på hvordan ledere kan etablere en god kommunikasjons- og tilbakemeldingskultur i barnehage og skole med bakgrunn i forskningsbasert kunnskap I tillegg vil det bli presentert konkrete metoder som kan anvendes  i forhold til utfordrende samtaler med ansatte som krenker barn.\n\n\n12.30\nLunsj\n\n\n13.30\nForebygging av krenking av barn blant voksne gjennom utvikling av et inkluderende arbeidsmiljø \nKristian Øen\, Høgskolelektor i pedagogikk \nSom leder i barnehage og skole har en ansvaret for utviklingen av et trygt og godt lek- og læringsmiljø for alle barn og unge. Dette forutsetter at en også utvikler et trygt og godt læringsmiljø blant de ansatte. Hva innebærer så et inkluderende arbeidsmiljø i barnehage og skole der en våger å utfordre og utforske hverandres praksis?\n\n\n15.30\nAvslutning dag 1.\n\n\n20.00\nMiddag og sosialt samvær i Maritim Hall \nQuiz\, innslag frå kulturskulen m.m.\n\n\n\n  \n  \n  \n  \nTorsdag 09.02. \n\n\n\n07.00\nFrukost\n\n\n08.20\nVelkommen til dag 2!\n\n\n08.30\nPresentasjon av aktivitetar i FOS: \n·       «Ung lærar»- Rekrutteringsprosjekt til lærarutdanninga v. Elisabeth Totland\, HVL. \n·       Årsplanarbeid i barnehagen v. Torhild Molland\, Skånevik skule- og barnehage. \n·       «Overgang frå barnehage til skule og SFO – innblikk frå to kommunar» v. Johanne Geitung Håvik\, Espira Salamonskogen barnehage\, Bømlo\, og Brynhild Herheim\, Sveio kommune. \n·       «Rolla som lærarutdanningsbarnehage og lærarutdanningsskule for HVL» v. Tone O. Baugstø\, rektor ved Rubbestadneset skule og Heine Larsen\, styrar i Espira Salamonskogen\, Bømlo.\n\n\n09.30\nPP-tjenesten og profesjonelle læringsfellesskap i barnehage og skole \nProfessor Thomas Nordahl \nI profesjonsfelleskapene i barnehage og skole ligger både muligheter og en rekke utfordringer tilknyttet å realisere en inkluderende pedagogisk praksis. I dette innlegget vil det bli lagt vekt på hvordan både PP-tjenesten og ledere i barnehage og skole kan bidra til å videreutvikle profesjonelle læringsfelleskap. Søkelyset vil være på forholdet mellom pedagogisk refleksjon mellom ansatte  og realisering av konkrete pedagogiske handlinger og aktiviteter.\n\n\n12.30\nLunsj\n\n\n13.30\nVel heim!\n\n\n\n  \n  \nOM PÅMELDING: \nNB! skriv under «Anna» kva produkt du vil ha. \nPrisar (den siste summen gjeld deltakarar utanfor FOS området): \nA) Dagpakke onsdag kr 675 (800)\,-\nB) Dagpakke torsdag kr 675 (800)\,-\nC) Middag onsdag kr 450 (550)\,- \nD) Overnatting i enkeltrom kr. 1050 (1100)\,- \nE) Overnatting i dobbeltrom kr. 1250 (1300)\,- \nHotellet tilbyr tilknytningsdøgn for deltakarane for kr 1050\,- (enkeltrom) – kr 1250 (dobbeltrom). Dette må bestillast og gjerast opp for direkte med hotellet. Bruk «FOS leiarkonferanse» som stikkord ved bestilling. \nPåmelding innan 01.02.23. \nVår kontaktperson: Anne Bjørg Kjellesvik.  \nMail: anne.bjorg.kjellesvik@choice.no \nFor meir informasjon :\nhege.steindal@sveio.kommune.no\nMob. 93 83 24 32 \nFree light bulbs shop window city image\, public domain place CC0 photo.
URL:https://fos-sunnh.no/hending/leiarkonferanse-2023/
LOCATION:Scandic Maritim hotell\, Åsbygata 3\, Haugesund\, Rogaland\, 5528\, Norway
CATEGORIES:Framheva på forsida,Kurs,Møte
ATTACH;FMTTYPE=image/jpeg:https://fos-sunnh.no/wp-content/uploads/2022/11/Lund.jpg
END:VEVENT
END:VCALENDAR